BEGIN:VCALENDAR
VERSION:2.0
PRODID:-//Park and Recreation - Prince Georges County MD - ECPv6.15.18//NONSGML v1.0//EN
CALSCALE:GREGORIAN
METHOD:PUBLISH
X-WR-CALNAME:Park and Recreation - Prince Georges County MD
X-ORIGINAL-URL:https://smartlink.pgparks.com
X-WR-CALDESC:Events for Park and Recreation - Prince Georges County MD
REFRESH-INTERVAL;VALUE=DURATION:PT1H
X-Robots-Tag:noindex
X-PUBLISHED-TTL:PT1H
BEGIN:VTIMEZONE
TZID:America/New_York
BEGIN:DAYLIGHT
TZOFFSETFROM:-0500
TZOFFSETTO:-0400
TZNAME:EDT
DTSTART:20250309T070000
END:DAYLIGHT
BEGIN:STANDARD
TZOFFSETFROM:-0400
TZOFFSETTO:-0500
TZNAME:EST
DTSTART:20251102T060000
END:STANDARD
BEGIN:DAYLIGHT
TZOFFSETFROM:-0500
TZOFFSETTO:-0400
TZNAME:EDT
DTSTART:20260308T070000
END:DAYLIGHT
BEGIN:STANDARD
TZOFFSETFROM:-0400
TZOFFSETTO:-0500
TZNAME:EST
DTSTART:20261101T060000
END:STANDARD
BEGIN:DAYLIGHT
TZOFFSETFROM:-0500
TZOFFSETTO:-0400
TZNAME:EDT
DTSTART:20270314T070000
END:DAYLIGHT
BEGIN:STANDARD
TZOFFSETFROM:-0400
TZOFFSETTO:-0500
TZNAME:EST
DTSTART:20271107T060000
END:STANDARD
END:VTIMEZONE
BEGIN:VEVENT
DTSTART;TZID=America/New_York:20260423T180000
DTEND;TZID=America/New_York:20260423T191500
DTSTAMP:20260422T012754
CREATED:20251111T222649Z
LAST-MODIFIED:20260220T175302Z
UID:10000160-1776967200-1776971700@smartlink.pgparks.com
SUMMARY:Liturgical Dance Master Class  with Dallas Black Dance Theatre
DESCRIPTION:Dancers learn praise choreography from the professionals of Dallas Black Dance Theatre. Spaces are limited; advanced registration is recommended. Tickets $20 for participants\, $10 for observers.
URL:https://smartlink.pgparks.com/event_list/liturgical-dance-master-class-with-dallas-black-dance-theatre
CATEGORIES:Arts,Fitness,Health & Wellness,Special Event,Special Events,Workshops
ATTACH;FMTTYPE=image/jpeg:https://smartlink.pgparks.com/wp-content/uploads/2025/07/Liturgical-Dance-Master-Class-400x400-1.jpg
END:VEVENT
BEGIN:VEVENT
DTSTART;TZID=America/New_York:20260423T194500
DTEND;TZID=America/New_York:20260423T210000
DTSTAMP:20260422T012754
CREATED:20251111T222605Z
LAST-MODIFIED:20260220T175148Z
UID:10000021-1776973500-1776978000@smartlink.pgparks.com
SUMMARY:African Dance Master Class with Dallas Black Dance Theatre
DESCRIPTION:Dancers learn a mixture of regional dances of Africa from the professionals of Dallas Black Dance Theatre. Women/girls can wear a lappa (two yards of African print fabric to be wrapped around the waist). Spaces are limited; advanced registration is recommended. Tickets $20 for participants\, $10 for observers.
URL:https://smartlink.pgparks.com/event_list/african-dance-master-class-with-dallas-black-dance-theatre
CATEGORIES:Arts,Fitness,Health & Wellness,Special Event,Special Events,Workshops
ATTACH;FMTTYPE=image/jpeg:https://smartlink.pgparks.com/wp-content/uploads/2025/07/African-Dance-Master-Class-400x400-1.jpg
END:VEVENT
BEGIN:VEVENT
DTSTART;TZID=America/New_York:20260425T140000
DTEND;TZID=America/New_York:20260425T180000
DTSTAMP:20260422T012754
CREATED:20251211T151913Z
LAST-MODIFIED:20251211T151915Z
UID:10000866-1777125600-1777140000@smartlink.pgparks.com
SUMMARY:Enchanted Encore
DESCRIPTION:Step into the spotlight again in either your wedding dress\, prom dress\, formal\, or semi-formal attire. This event is all about reviving memories and celebrating you! Music\, mocktails\, dancing\, formal event themed-games\, throw-back photo contest\, and activities. Don’t forget to bring your favorite friend\, escort\, or crew! Refreshments will be available while supplies last.
URL:https://smartlink.pgparks.com/event_list/enchanted-encore
CATEGORIES:Special Events
ATTACH;FMTTYPE=image/png:https://smartlink.pgparks.com/wp-content/uploads/2025/12/Enchanted-Encore-600x400-1.png
END:VEVENT
END:VCALENDAR